BEGIN:VCALENDAR
VERSION:2.0
PRODID:https://www.kufer.de/kuferweb / DE
METHOD:PUBLISH
CALSCALE:GREGORIAN
X-WR-TIMEZONE:Europe/Berlin
BEGIN:VTIMEZONE
TZID:Europe/Berlin
X-LIC-LOCATION:Europe/Berlin
BEGIN:DAYLIGHT
TZOFFSETFROM:+0100
TZOFFSETTO:+0200
TZNAME:CEST
DTSTART:19700329T020000
RRULE:FREQ=YEARLY;INTERVAL=1;BYDAY=-1SU;BYMONTH=3
END:DAYLIGHT
BEGIN:STANDARD
TZOFFSETFROM:+0200
TZOFFSETTO:+0100
TZNAME:CET
DTSTART:19701025T030000
RRULE:FREQ=YEARLY;INTERVAL=1;BYDAY=-1SU;BYMONTH=10
END:STANDARD
END:VTIMEZONE
BEGIN:VEVENT
DTSTAMP:20260424T160606
DTSTART;TZID=Europe/Berlin:20260423T150000
DTEND;TZID=Europe/Berlin:20260423T164500
UID:261-E1954-20260423T150000@VHSPUCHHEIM
SUMMARY:Kultur am Nachmittag (261-E1954) 
LOCATION:1. Treffpunkt: München Lenbachhaus Eingangshalle, Luisenstr. 33
END:VEVENT
BEGIN:VEVENT
DTSTAMP:20260424T160606
DTSTART;TZID=Europe/Berlin:20260618T150000
DTEND;TZID=Europe/Berlin:20260618T164500
UID:261-E1954-20260618T150000@VHSPUCHHEIM
SUMMARY:Kultur am Nachmittag (261-E1954) 
LOCATION:2. Treffpunkt: München, Hypo-Kunsthalle 1. OG, Theatinerstr. 8
END:VEVENT
END:VCALENDAR