BEGIN:VCALENDAR
VERSION:2.0
PRODID:https://www.kufer.de/kuferweb / DE
METHOD:PUBLISH
CALSCALE:GREGORIAN
X-WR-TIMEZONE:Europe/Berlin
BEGIN:VTIMEZONE
TZID:Europe/Berlin
X-LIC-LOCATION:Europe/Berlin
BEGIN:DAYLIGHT
TZOFFSETFROM:+0100
TZOFFSETTO:+0200
TZNAME:CEST
DTSTART:19700329T020000
RRULE:FREQ=YEARLY;INTERVAL=1;BYDAY=-1SU;BYMONTH=3
END:DAYLIGHT
BEGIN:STANDARD
TZOFFSETFROM:+0200
TZOFFSETTO:+0100
TZNAME:CET
DTSTART:19701025T030000
RRULE:FREQ=YEARLY;INTERVAL=1;BYDAY=-1SU;BYMONTH=10
END:STANDARD
END:VTIMEZONE
BEGIN:VEVENT
DTSTAMP:20260420T180023
DTSTART;TZID=Europe/Berlin:20260303T190000
DTEND;TZID=Europe/Berlin:20260303T200000
UID:261-E3303-20260303T190000@VHSPUCHHEIM
SUMMARY:Wirbelsäulengymnastik und Mobilisation (261-E3303) 
LOCATION:Eichenau, VHS, Hauptstr. 37, Raum 202, 1. OG
END:VEVENT
BEGIN:VEVENT
DTSTAMP:20260420T180023
DTSTART;TZID=Europe/Berlin:20260310T190000
DTEND;TZID=Europe/Berlin:20260310T200000
UID:261-E3303-20260310T190000@VHSPUCHHEIM
SUMMARY:Wirbelsäulengymnastik und Mobilisation (261-E3303) 
LOCATION:Eichenau, VHS, Hauptstr. 37, Raum 202, 1. OG
END:VEVENT
BEGIN:VEVENT
DTSTAMP:20260420T180023
DTSTART;TZID=Europe/Berlin:20260317T190000
DTEND;TZID=Europe/Berlin:20260317T200000
UID:261-E3303-20260317T190000@VHSPUCHHEIM
SUMMARY:Wirbelsäulengymnastik und Mobilisation (261-E3303) 
LOCATION:Eichenau, VHS, Hauptstr. 37, Raum 202, 1. OG
END:VEVENT
BEGIN:VEVENT
DTSTAMP:20260420T180023
DTSTART;TZID=Europe/Berlin:20260324T190000
DTEND;TZID=Europe/Berlin:20260324T200000
UID:261-E3303-20260324T190000@VHSPUCHHEIM
SUMMARY:Wirbelsäulengymnastik und Mobilisation (261-E3303) 
LOCATION:Eichenau, VHS, Hauptstr. 37, Raum 202, 1. OG
END:VEVENT
BEGIN:VEVENT
DTSTAMP:20260420T180023
DTSTART;TZID=Europe/Berlin:20260414T190000
DTEND;TZID=Europe/Berlin:20260414T200000
UID:261-E3303-20260414T190000@VHSPUCHHEIM
SUMMARY:Wirbelsäulengymnastik und Mobilisation (261-E3303) 
LOCATION:Eichenau, VHS, Hauptstr. 37, Raum 202, 1. OG
END:VEVENT
BEGIN:VEVENT
DTSTAMP:20260420T180023
DTSTART;TZID=Europe/Berlin:20260421T190000
DTEND;TZID=Europe/Berlin:20260421T200000
UID:261-E3303-20260421T190000@VHSPUCHHEIM
SUMMARY:Wirbelsäulengymnastik und Mobilisation (261-E3303) 
LOCATION:Eichenau, VHS, Hauptstr. 37, Raum 202, 1. OG
END:VEVENT
BEGIN:VEVENT
DTSTAMP:20260420T180023
DTSTART;TZID=Europe/Berlin:20260428T190000
DTEND;TZID=Europe/Berlin:20260428T200000
UID:261-E3303-20260428T190000@VHSPUCHHEIM
SUMMARY:Wirbelsäulengymnastik und Mobilisation (261-E3303) 
LOCATION:Eichenau, VHS, Hauptstr. 37, Raum 202, 1. OG
END:VEVENT
BEGIN:VEVENT
DTSTAMP:20260420T180023
DTSTART;TZID=Europe/Berlin:20260505T190000
DTEND;TZID=Europe/Berlin:20260505T200000
UID:261-E3303-20260505T190000@VHSPUCHHEIM
SUMMARY:Wirbelsäulengymnastik und Mobilisation (261-E3303) 
LOCATION:Eichenau, VHS, Hauptstr. 37, Raum 202, 1. OG
END:VEVENT
BEGIN:VEVENT
DTSTAMP:20260420T180023
DTSTART;TZID=Europe/Berlin:20260512T190000
DTEND;TZID=Europe/Berlin:20260512T200000
UID:261-E3303-20260512T190000@VHSPUCHHEIM
SUMMARY:Wirbelsäulengymnastik und Mobilisation (261-E3303) 
LOCATION:Eichenau, VHS, Hauptstr. 37, Raum 202, 1. OG
END:VEVENT
BEGIN:VEVENT
DTSTAMP:20260420T180023
DTSTART;TZID=Europe/Berlin:20260519T190000
DTEND;TZID=Europe/Berlin:20260519T200000
UID:261-E3303-20260519T190000@VHSPUCHHEIM
SUMMARY:Wirbelsäulengymnastik und Mobilisation (261-E3303) 
LOCATION:Eichenau, VHS, Hauptstr. 37, Raum 202, 1. OG
END:VEVENT
BEGIN:VEVENT
DTSTAMP:20260420T180023
DTSTART;TZID=Europe/Berlin:20260609T190000
DTEND;TZID=Europe/Berlin:20260609T200000
UID:261-E3303-20260609T190000@VHSPUCHHEIM
SUMMARY:Wirbelsäulengymnastik und Mobilisation (261-E3303) 
LOCATION:Eichenau, VHS, Hauptstr. 37, Raum 202, 1. OG
END:VEVENT
BEGIN:VEVENT
DTSTAMP:20260420T180023
DTSTART;TZID=Europe/Berlin:20260616T190000
DTEND;TZID=Europe/Berlin:20260616T200000
UID:261-E3303-20260616T190000@VHSPUCHHEIM
SUMMARY:Wirbelsäulengymnastik und Mobilisation (261-E3303) 
LOCATION:Eichenau, VHS, Hauptstr. 37, Raum 202, 1. OG
END:VEVENT
BEGIN:VEVENT
DTSTAMP:20260420T180023
DTSTART;TZID=Europe/Berlin:20260623T190000
DTEND;TZID=Europe/Berlin:20260623T200000
UID:261-E3303-20260623T190000@VHSPUCHHEIM
SUMMARY:Wirbelsäulengymnastik und Mobilisation (261-E3303) 
LOCATION:Eichenau, VHS, Hauptstr. 37, Raum 202, 1. OG
END:VEVENT
BEGIN:VEVENT
DTSTAMP:20260420T180023
DTSTART;TZID=Europe/Berlin:20260630T190000
DTEND;TZID=Europe/Berlin:20260630T200000
UID:261-E3303-20260630T190000@VHSPUCHHEIM
SUMMARY:Wirbelsäulengymnastik und Mobilisation (261-E3303) 
LOCATION:Eichenau, VHS, Hauptstr. 37, Raum 202, 1. OG
END:VEVENT
BEGIN:VEVENT
DTSTAMP:20260420T180023
DTSTART;TZID=Europe/Berlin:20260707T190000
DTEND;TZID=Europe/Berlin:20260707T200000
UID:261-E3303-20260707T190000@VHSPUCHHEIM
DESCRIPTION:Nachholtermin v. 24.2. Ersatz für Ausfall am 24.02.2026
SUMMARY:Wirbelsäulengymnastik und Mobilisation (261-E3303) 
LOCATION:Eichenau, VHS, Hauptstr. 37, Raum 202, 1. OG
END:VEVENT
END:VCALENDAR