BEGIN:VCALENDAR
VERSION:2.0
PRODID:https://www.kufer.de/kuferweb / DE
METHOD:PUBLISH
CALSCALE:GREGORIAN
X-WR-TIMEZONE:Europe/Berlin
BEGIN:VTIMEZONE
TZID:Europe/Berlin
X-LIC-LOCATION:Europe/Berlin
BEGIN:DAYLIGHT
TZOFFSETFROM:+0100
TZOFFSETTO:+0200
TZNAME:CEST
DTSTART:19700329T020000
RRULE:FREQ=YEARLY;INTERVAL=1;BYDAY=-1SU;BYMONTH=3
END:DAYLIGHT
BEGIN:STANDARD
TZOFFSETFROM:+0200
TZOFFSETTO:+0100
TZNAME:CET
DTSTART:19701025T030000
RRULE:FREQ=YEARLY;INTERVAL=1;BYDAY=-1SU;BYMONTH=10
END:STANDARD
END:VTIMEZONE
BEGIN:VEVENT
DTSTAMP:20260420T164241
DTSTART;TZID=Europe/Berlin:20260303T091500
DTEND;TZID=Europe/Berlin:20260303T103000
UID:261-P3103-20260303T091500@VHSPUCHHEIM
SUMMARY:Feldenkrais®: Bewusstheit durch Bewegung (261-P3103) 
LOCATION:Puchheim, Bürgertreff, Raum E 6, Am Grünen Markt 7, 82178 Puchheim
END:VEVENT
BEGIN:VEVENT
DTSTAMP:20260420T164241
DTSTART;TZID=Europe/Berlin:20260310T091500
DTEND;TZID=Europe/Berlin:20260310T103000
UID:261-P3103-20260310T091500@VHSPUCHHEIM
SUMMARY:Feldenkrais®: Bewusstheit durch Bewegung (261-P3103) 
LOCATION:Puchheim, Bürgertreff, Raum E 6, Am Grünen Markt 7, 82178 Puchheim
END:VEVENT
BEGIN:VEVENT
DTSTAMP:20260420T164241
DTSTART;TZID=Europe/Berlin:20260317T091500
DTEND;TZID=Europe/Berlin:20260317T103000
UID:261-P3103-20260317T091500@VHSPUCHHEIM
SUMMARY:Feldenkrais®: Bewusstheit durch Bewegung (261-P3103) 
LOCATION:Puchheim, Bürgertreff, Raum E 6, Am Grünen Markt 7, 82178 Puchheim
END:VEVENT
BEGIN:VEVENT
DTSTAMP:20260420T164241
DTSTART;TZID=Europe/Berlin:20260324T091500
DTEND;TZID=Europe/Berlin:20260324T103000
UID:261-P3103-20260324T091500@VHSPUCHHEIM
SUMMARY:Feldenkrais®: Bewusstheit durch Bewegung (261-P3103) 
LOCATION:Puchheim, Bürgertreff, Raum E 6, Am Grünen Markt 7, 82178 Puchheim
END:VEVENT
BEGIN:VEVENT
DTSTAMP:20260420T164241
DTSTART;TZID=Europe/Berlin:20260414T091500
DTEND;TZID=Europe/Berlin:20260414T103000
UID:261-P3103-20260414T091500@VHSPUCHHEIM
SUMMARY:Feldenkrais®: Bewusstheit durch Bewegung (261-P3103) 
LOCATION:Puchheim, Bürgertreff, Raum E 6, Am Grünen Markt 7, 82178 Puchheim
END:VEVENT
BEGIN:VEVENT
DTSTAMP:20260420T164241
DTSTART;TZID=Europe/Berlin:20260421T091500
DTEND;TZID=Europe/Berlin:20260421T103000
UID:261-P3103-20260421T091500@VHSPUCHHEIM
SUMMARY:Feldenkrais®: Bewusstheit durch Bewegung (261-P3103) 
LOCATION:Puchheim, Bürgertreff, Raum E 6, Am Grünen Markt 7, 82178 Puchheim
END:VEVENT
BEGIN:VEVENT
DTSTAMP:20260420T164241
DTSTART;TZID=Europe/Berlin:20260428T091500
DTEND;TZID=Europe/Berlin:20260428T103000
UID:261-P3103-20260428T091500@VHSPUCHHEIM
SUMMARY:Feldenkrais®: Bewusstheit durch Bewegung (261-P3103) 
LOCATION:Puchheim, Bürgertreff, Raum E 6, Am Grünen Markt 7, 82178 Puchheim
END:VEVENT
BEGIN:VEVENT
DTSTAMP:20260420T164241
DTSTART;TZID=Europe/Berlin:20260505T091500
DTEND;TZID=Europe/Berlin:20260505T103000
UID:261-P3103-20260505T091500@VHSPUCHHEIM
SUMMARY:Feldenkrais®: Bewusstheit durch Bewegung (261-P3103) 
LOCATION:Puchheim, Bürgertreff, Raum E 6, Am Grünen Markt 7, 82178 Puchheim
END:VEVENT
BEGIN:VEVENT
DTSTAMP:20260420T164241
DTSTART;TZID=Europe/Berlin:20260512T091500
DTEND;TZID=Europe/Berlin:20260512T103000
UID:261-P3103-20260512T091500@VHSPUCHHEIM
SUMMARY:Feldenkrais®: Bewusstheit durch Bewegung (261-P3103) 
LOCATION:Puchheim, Bürgertreff, Raum E 6, Am Grünen Markt 7, 82178 Puchheim
END:VEVENT
BEGIN:VEVENT
DTSTAMP:20260420T164241
DTSTART;TZID=Europe/Berlin:20260519T091500
DTEND;TZID=Europe/Berlin:20260519T103000
UID:261-P3103-20260519T091500@VHSPUCHHEIM
SUMMARY:Feldenkrais®: Bewusstheit durch Bewegung (261-P3103) 
LOCATION:Puchheim, Bürgertreff, Raum E 6, Am Grünen Markt 7, 82178 Puchheim
END:VEVENT
BEGIN:VEVENT
DTSTAMP:20260420T164241
DTSTART;TZID=Europe/Berlin:20260609T091500
DTEND;TZID=Europe/Berlin:20260609T103000
UID:261-P3103-20260609T091500@VHSPUCHHEIM
SUMMARY:Feldenkrais®: Bewusstheit durch Bewegung (261-P3103) 
LOCATION:Puchheim, Bürgertreff, Raum E 6, Am Grünen Markt 7, 82178 Puchheim
END:VEVENT
BEGIN:VEVENT
DTSTAMP:20260420T164241
DTSTART;TZID=Europe/Berlin:20260630T091500
DTEND;TZID=Europe/Berlin:20260630T103000
UID:261-P3103-20260630T091500@VHSPUCHHEIM
SUMMARY:Feldenkrais®: Bewusstheit durch Bewegung (261-P3103) 
LOCATION:Puchheim, Bürgertreff, Raum E 6, Am Grünen Markt 7, 82178 Puchheim
END:VEVENT
BEGIN:VEVENT
DTSTAMP:20260420T164241
DTSTART;TZID=Europe/Berlin:20260707T091500
DTEND;TZID=Europe/Berlin:20260707T103000
UID:261-P3103-20260707T091500@VHSPUCHHEIM
DESCRIPTION:Ersatz für Ausfall am 16.06.2026
SUMMARY:Feldenkrais®: Bewusstheit durch Bewegung (261-P3103) 
LOCATION:Puchheim, Bürgertreff, Raum E 6, Am Grünen Markt 7, 82178 Puchheim
END:VEVENT
BEGIN:VEVENT
DTSTAMP:20260420T164241
DTSTART;TZID=Europe/Berlin:20260714T091500
DTEND;TZID=Europe/Berlin:20260714T103000
UID:261-P3103-20260714T091500@VHSPUCHHEIM
DESCRIPTION:Ersatz für Ausfall am 23.06.2026
SUMMARY:Feldenkrais®: Bewusstheit durch Bewegung (261-P3103) 
LOCATION:Puchheim, Bürgertreff, Raum E 6, Am Grünen Markt 7, 82178 Puchheim
END:VEVENT
BEGIN:VEVENT
DTSTAMP:20260420T164241
DTSTART;TZID=Europe/Berlin:20260721T091500
DTEND;TZID=Europe/Berlin:20260721T103000
UID:261-P3103-20260721T091500@VHSPUCHHEIM
DESCRIPTION:Z für entf. 24.02.26 Ersatz für Ausfall am 24.02.2026
SUMMARY:Feldenkrais®: Bewusstheit durch Bewegung (261-P3103) 
LOCATION:Puchheim, Bürgertreff, Raum E 6, Am Grünen Markt 7, 82178 Puchheim
END:VEVENT
END:VCALENDAR